BEGIN:VCALENDAR
VERSION:2.0
PRODID:-//Bonsai Akira  - ECPv6.15.20//NONSGML v1.0//EN
CALSCALE:GREGORIAN
METHOD:PUBLISH
X-ORIGINAL-URL:https://bonsaiakira.com
X-WR-CALDESC:Events for Bonsai Akira 
REFRESH-INTERVAL;VALUE=DURATION:PT1H
X-Robots-Tag:noindex
X-PUBLISHED-TTL:PT1H
BEGIN:VTIMEZONE
TZID:America/Los_Angeles
BEGIN:DAYLIGHT
TZOFFSETFROM:-0800
TZOFFSETTO:-0700
TZNAME:PDT
DTSTART:20170312T100000
END:DAYLIGHT
BEGIN:STANDARD
TZOFFSETFROM:-0700
TZOFFSETTO:-0800
TZNAME:PST
DTSTART:20171105T090000
END:STANDARD
BEGIN:DAYLIGHT
TZOFFSETFROM:-0800
TZOFFSETTO:-0700
TZNAME:PDT
DTSTART:20180311T100000
END:DAYLIGHT
BEGIN:STANDARD
TZOFFSETFROM:-0700
TZOFFSETTO:-0800
TZNAME:PST
DTSTART:20181104T090000
END:STANDARD
BEGIN:DAYLIGHT
TZOFFSETFROM:-0800
TZOFFSETTO:-0700
TZNAME:PDT
DTSTART:20190310T100000
END:DAYLIGHT
BEGIN:STANDARD
TZOFFSETFROM:-0700
TZOFFSETTO:-0800
TZNAME:PST
DTSTART:20191103T090000
END:STANDARD
END:VTIMEZONE
BEGIN:VTIMEZONE
TZID:UTC
BEGIN:STANDARD
TZOFFSETFROM:+0000
TZOFFSETTO:+0000
TZNAME:UTC
DTSTART:20170101T000000
END:STANDARD
END:VTIMEZONE
BEGIN:VEVENT
DTSTART;TZID=America/Los_Angeles:20181013T110000
DTEND;TZID=America/Los_Angeles:20181014T170000
DTSTAMP:20260422T143854
CREATED:20181002T000320Z
LAST-MODIFIED:20181010T153441Z
UID:205341-1539428400-1539536400@bonsaiakira.com
SUMMARY:Open Studio on October 13 and 14
DESCRIPTION:The best of our fall collection will be on display\, including many rare Japanese Maples\, Conifers\, and unique flowering shrubs with four season interest. New trees and new pottery make this a special opportunity to look for unique gift ideas for loved ones for the holidays.\nWe will be welcoming visitors from 11:00AM to 5:00PM both days– our last open garden of the year!\nWe are located in Southeast Portland\, at 1630 SE Ellis St\, PDX< 97202
URL:https://bonsaiakira.com/event/open-studio-on-october-13-and-14/
END:VEVENT
BEGIN:VEVENT
DTSTART;VALUE=DATE:20181006
DTEND;VALUE=DATE:20181008
DTSTAMP:20260422T143854
CREATED:20180930T162525Z
LAST-MODIFIED:20180930T162525Z
UID:205317-1538784000-1538956799@bonsaiakira.com
SUMMARY:Bend Fall Festival
DESCRIPTION:
URL:https://bonsaiakira.com/event/bend-fall-festival/
LOCATION:Downtown Bend\, Oregon
CATEGORIES:Festival
ORGANIZER;CN="":MAILTO:bonsaiakirapdx@gmail.com
END:VEVENT
BEGIN:VEVENT
DTSTART;TZID=UTC:20180207T090000
DTEND;TZID=UTC:20180211T180000
DTSTAMP:20260422T143854
CREATED:20180131T082817Z
LAST-MODIFIED:20180131T082817Z
UID:299-1517994000-1518372000@bonsaiakira.com
SUMMARY:The Northwest Flower and Garden Show
DESCRIPTION:The Northwest Flower and Garden Show will host Bonsai Akira for the second year! Accepted as an exhibitor in the “City Living” display area\, I will be designing a small garden suitable for a condominium balcony or patio. Looking forward to featuring ferns\, orchids\, and tropical trees\, in addition to my own bonsai stylings of conifers and flowering shrubs. There are only eight miniature gardens\, installed on the skybridge at the Washington State Convention Center complex\, with the Seattle skyline as the backdrop to our displays.
URL:https://bonsaiakira.com/event/the-northwest-flower-and-garden-show/
LOCATION:Washington State Convention Center\, 705 Pike Street\, Seattle\, Washington\, 98101\, United States
CATEGORIES:Festival
ATTACH;FMTTYPE=image/jpeg:https://bonsaiakira.com/wp-content/uploads/2018/01/zzlpgxxctgmwnkjlqemw.jpg
END:VEVENT
END:VCALENDAR